﻿BEGIN:VCALENDAR
VERSION:2.0
PRODID:-//Dhammaduta - ECPv6.7.1//NONSGML v1.0//EN
CALSCALE:GREGORIAN
METHOD:PUBLISH
X-ORIGINAL-URL:https://dhammaduta.net
X-WR-CALDESC:Events for Dhammaduta
REFRESH-INTERVAL;VALUE=DURATION:PT1H
X-Robots-Tag:noindex
X-PUBLISHED-TTL:PT1H
BEGIN:VTIMEZONE
TZID:Asia/Krasnoyarsk
BEGIN:STANDARD
TZOFFSETFROM:+0700
TZOFFSETTO:+0700
TZNAME:+07
DTSTART:20220101T000000
END:STANDARD
TZID:UTC
BEGIN:STANDARD
TZOFFSETFROM:+0000
TZOFFSETTO:+0000
TZNAME:UTC
DTSTART:20230101T000000
END:STANDARD
END:VTIMEZONE
BEGIN:VEVENT
DTSTART;TZID=Asia/Krasnoyarsk:20221201T200000
DTEND;TZID=Asia/Krasnoyarsk:20251231T210000
DTSTAMP:20260419T141818
CREATED:20230924T162513Z
LAST-MODIFIED:20230924T162629Z
UID:2265-1669924800-1767214800@dhammaduta.net
SUMMARY:Giảng kinh Trung Bộ
DESCRIPTION:Các bài giảng kinh Trung bộ của Ni sư Pháp Hỷ trong khóa học Giảng Kinh Nguyên Thủy vẫn tiếp diễn vào thứ Tư hàng tuần cho tới lúc kết thúc. \n 
URL:https://dhammaduta.net/event/giang-kinh-trung-bo/
LOCATION:Hà Nội
ATTACH;FMTTYPE=image/jpeg:https://dhammaduta.net/wp-content/uploads/2023/01/Tipitaka-Pali.jpg
END:VEVENT
BEGIN:VEVENT
DTSTART;TZID=UTC:20230310T073000
DTEND;TZID=UTC:20230312T160000
DTSTAMP:20260419T141818
CREATED:20230220T032549Z
LAST-MODIFIED:20230220T071930Z
UID:1967-1678433400-1678636800@dhammaduta.net
SUMMARY:Khóa thiền Vipassana (Tứ Niệm Xứ)
DESCRIPTION:Thông báo khóa thiền Vipassana (Tứ Niệm Xứ) \nKính thưa anh/chị\, \nTừ ngày 10/3 đến 12/3 \, Chùa Long Hưng tổ chức khóa Thiền Vipassana với sự hướng dẫn thiền của Ni sư Pháp Hỷ – Vị Ni sư thành tựu Pháp học và pháp hành:\n– Học vị Tiến sĩ Phật học hệ Nguyên Thủy (năm 2008)\n– 27 năm thực hành thiền Tứ Niệm Xứ với sự hướng dẫn của một số thiền sư nổi tiếng tại Myanma và Sri Lanca.\n– 16 năm hướng dẫn thiền tại các trung tâm thiền lớn trên Thế giới.\n– Hiện tại Sư đang là giáo thọ sư lớp thiền Tứ Niệm Xứ online chùa Long Hưng.\n– Ni sư đã hướng dẫn thiền và giảng Pháp đến hàng ngàn anh chị. \nAnh chị quan tâm đến thực hành thiền Offline 3 ngày tại chùa Long Hưng\, hoan hỷ đăng ký theo Link kèm theo. Trân trọng cảm ơn anh chị. LINK ĐĂNG KÝ THAM GIA KHÓA THIỀN: https://salekit.io/form/52323318
URL:https://dhammaduta.net/event/khoa-thien-vipassana-tu-niem-xu/
LOCATION:Chùa Long Hưng\, thôn Phương Trạch\, xã Vĩnh Ngọc\, Đông Anh\, Hà Nội\, Hà Nội\, 100000\, Viet Nam
END:VEVENT
BEGIN:VEVENT
DTSTART;TZID=UTC:20230327T163000
DTEND;TZID=UTC:20230330T163000
DTSTAMP:20260419T141818
CREATED:20230325T034321Z
LAST-MODIFIED:20230325T034321Z
UID:1981-1679934600-1680193800@dhammaduta.net
SUMMARY:Giảng thiền Phật Pháp chùa Tam Bảo
DESCRIPTION:Sự kiện giảng thiền Phật Pháp\nĐịa điểm\nChùa Tam Bảo TP. Đà Nẵng \n323 Phan Châu Trinh\, P. Bình Hiên\, Q. Hải Châu\, TP. Đà Nẵng \nThời gian\n18h30 bốn ngày từ 27/3/2023 đến 30/3/2023 (6/2N-9/2N ÂL) \nGiảng sư\nNi Sư Pháp Hỷ \nTrân trọng kính mời quý Phật tử vân tập về chùa nghe giảng thiền Phật Pháp gieo duyên lành phước báu
URL:https://dhammaduta.net/event/giang-thien-phat-phap-chua-tam-bao/
LOCATION:Chùa Tam Bảo\, 323 Phan Châu Trinh\, phường Bình Hiên\, quận Hải Châu\, Đà Nẵng\, Viet Nam
ATTACH;FMTTYPE=image/jpeg:https://dhammaduta.net/wp-content/uploads/2023/03/giang-thien-Phat-Phap.jpg
END:VEVENT
END:VCALENDAR