﻿BEGIN:VCALENDAR
VERSION:2.0
PRODID:-//Dhammaduta - ECPv6.7.1//NONSGML v1.0//EN
CALSCALE:GREGORIAN
METHOD:PUBLISH
X-WR-CALNAME:Dhammaduta
X-ORIGINAL-URL:https://dhammaduta.net
X-WR-CALDESC:Events for Dhammaduta
REFRESH-INTERVAL;VALUE=DURATION:PT1H
X-Robots-Tag:noindex
X-PUBLISHED-TTL:PT1H
BEGIN:VTIMEZONE
TZID:Asia/Krasnoyarsk
BEGIN:STANDARD
TZOFFSETFROM:+0700
TZOFFSETTO:+0700
TZNAME:+07
DTSTART:20240101T000000
END:STANDARD
END:VTIMEZONE
BEGIN:VEVENT
DTSTART;TZID=Asia/Krasnoyarsk:20240614T080000
DTEND;TZID=Asia/Krasnoyarsk:20240614T080000
DTSTAMP:20260420T201140
CREATED:20240614T074236Z
LAST-MODIFIED:20240614T074236Z
UID:2424-1718352000-1718352000@dhammaduta.net
SUMMARY:ĐĂNG KÝ MUA SÁCH PHẬT PHÁP TRONG ĐỜI SỐNG
DESCRIPTION:Kính thưa anh/chị\,\n\nVề phương diện Nhập Thế\, Đạo Phật được dạy như một cách sống để có bình an và hạnh phúc cho tất cả mọi người và mọi loài\, dùng chìa khóa “chính kiến” mở ra một cách nhìn mới\, một khám phá sâu sắc về bản chất của đời sống trong ta và quanh ta. Với những khám phá này\, chúng ta tìm ra những nguyên lý chi phối sự vận hành của cuộc đời và thế giới\, từ những nhận thức đúng đắn về đời sống\, chúng ta biết cách sống thuận theo những quy luật tự nhiên và quy luật tâm lý\, dẫn đến một sự phát triển hài hòa trong các mối liên hệ và duy trì một đời sống thăng bằng giữa những đổi thay của cuộc sống.\n\n“Phật pháp trong đời sống” của Ni sư Pháp Hỷ là cuốn sách được các nhà học giả đánh giá cao và bạn đọc yêu thích. Trong cuốn sách này\, Ni sư dẫn dắt người đọc đến sự hiểu biết toàn diện\, thâm sâu vào những giáo lý và cách thực hành căn bản và phổ biến nhất của Đạo Phật.\nNhững bài pháp ngắn trong cuốn sách Phật Pháp trong Đời Sống đã được đón nhận nồng nhiệt ở Việt Nam ngay sau khi ra mắt phát hành lần đầu năm 2008 NXB Tôn Giáo\, được tái bản 2 lần ở VN. Năm 2011 được tái bản ở Melburn Úc châu\, và năm 2018 được nhà xuất bản Ananda Việt xuất bản và có bán trên Amazon.\nTrong lần tái bản thứ 5 này\, cuốn sách thêm 3 bài pháp mới\, làm thành 15 bài pháp dẫn dắt độc giả từ lý thuyết đến thực hành những lời dạy của đức Phật giảng dạy 2600 năm trước\, bằng ngôn ngữ hiện đại và dễ hiểu cho người Việt.\n \nGiới thiệu tác giả: Ni sư Pháp Hỷ\, tiến sĩ Phật học hệ Pali\, phó giám đốc Trung tâm Phiên biên dịch Tư liệu Phật giáo Quốc tế\, giáo thọ sư lớp thiền Tứ Niệm Xứ – Chùa Long Hưng.\n\nKính mời Quý anh/chị đăng ký mua sách theo nội dung sau:\n– Phật pháp trong đời sống\n– Tác giả: Ni sư Pháp Hỷ\n– Giá tiền: 79\,000đ\n– Giảm giá: -35% (áp dụng đối với các thiền sinh lớp Ni sư Pháp Hỷ hướng dẫn)\nLink đăng ký: https://docs.google.com/forms/d/e/1FAIpQLSdc6Iw1ANwy6g6ytGpycyPMtMJ5R4QwtUnVNqs1Mn9r1iOh1g/viewform\n\nLiên hệ (zalo): Thúy An Vy 0869963999\nNgoc Hồng ĐT: 0888809840\, hoặc Diệu Vy. 0977208586\nCảm ơn anh chị\nTrân trọng cảm ơn.
URL:https://dhammaduta.net/event/dang-ky-mua-sach-phat-phap-trong-doi-song/
ATTACH;FMTTYPE=image/jpeg:https://dhammaduta.net/wp-content/uploads/2024/06/Phat-phap-trong-doi-song.jpg
END:VEVENT
END:VCALENDAR